BEGIN:VCALENDAR
VERSION:2.0
PRODID:-//Volt Europa//Events//EN
CALSCALE:GREGORIAN
METHOD:PUBLISH
BEGIN:VEVENT
UID:beleidsavond-zuid-holland-democratie-bestuur-1782320400@voltnederland.o
 rg
DTSTAMP:20260425T233633Z
DTSTART;TZID=Europe/Amsterdam:20260624T190000
DTEND;TZID=Europe/Amsterdam:20260624T210000
SUMMARY:Beleidsavond Zuid-Holland: Democratie & bestuur 🏛️
DESCRIPTION:Op  24 juni  organiseert Volt Zuid-Holland een beleidsavond ove
 r  bestuur & democratie . Tijdens deze bijeenkomst bespreken we actuele uit
 dagingen en kansen en gaan we samen met leden en experts in gesprek over de
  toekomst van Zuid-Holland. De provincie speelt bijvoorbeeld een belangrijk
 e rol op het gebied van het verbeteren van het  (jongeren-)participatie\, 
 overheidsfinanciën\, diversiteit en inclusie. Vanuit een toekomstbeeld van
  hoe Zuid-Holland er in 2100 uit kan zien\, bespreken we welke stap
LOCATION:Provinciehuis Zuid-Holland (Zuid-Hollandplein 1\, Den Haag)
URL:https://voltnederland.org/zuid-holland/agenda/beleidsavond-zuid-holland
 -democratie-bestuur
END:VEVENT
END:VCALENDAR
