BEGIN:VCALENDAR
VERSION:2.0
PRODID:-//Volt Europa//Events//EN
CALSCALE:GREGORIAN
METHOD:PUBLISH
BEGIN:VEVENT
UID:beleidsavond-volt-zuid-holland-energietransitie-1779901200@voltnederlan
 d.org
DTSTAMP:20260425T233540Z
DTSTART;TZID=Europe/Amsterdam:20260527T190000
DTEND;TZID=Europe/Amsterdam:20260527T210000
SUMMARY:Beleidsavond Volt Zuid-Holland: Energietransitie⚡
DESCRIPTION:Op  27 mei  organiseert Volt Zuid-Holland een beleidsavond over
  de  energietransitie . Tijdens deze bijeenkomst bespreken we actuele uitda
 gingen en kansen en gaan we samen met leden en experts in gesprek over de t
 oekomst van Zuid-Holland. De provincie speelt bijvoorbeeld een belangrijke 
 rol op het gebied van  lokaal eigendom\, het overvolle stroomnet en zon- 
 en windenergie op land. Vanuit een toekomstbeeld van hoe Zuid-Holland er in
  2100 uit kan zien\, bespreken we welke stappen vandaag nodig zijn
LOCATION:Provinciehuis Zuid-Holland (Zuid-Hollandplein 1\, Den Haag)
URL:https://voltnederland.org/zuid-holland/agenda/beleidsavond-volt-zuid-ho
 lland-energietransitie
END:VEVENT
END:VCALENDAR
