BEGIN:VCALENDAR
VERSION:2.0
PRODID:-//Volt Europa//Events//EN
CALSCALE:GREGORIAN
METHOD:PUBLISH
BEGIN:VEVENT
UID:beleidsavond-milieu-natuur-1779296400@voltnederland.org
DTSTAMP:20260425T233444Z
DTSTART;TZID=Europe/Amsterdam:20260520T190000
DTEND;TZID=Europe/Amsterdam:20260520T210000
SUMMARY:Beleidsavond Volt Zuid-Holland: Milieu & Natuur 🌱
DESCRIPTION:Op  20 mei  organiseert Volt Zuid-Holland een beleidsavond over
   milieu & natuur . Tijdens deze bijeenkomst bespreken we actuele uitdaging
 en en kansen en gaan we samen met leden en experts in gesprek over de toeko
 mst van Zuid-Holland. De provincie speelt bijvoorbeeld een belangrijke rol 
 op het gebied van het verbeteren van lucht-\, water- en bodemkwaliteit\, bi
 odiversiteit en natuurherstel. Vanuit een toekomstbeeld van hoe Zuid-Hollan
 d er in 2100 uit kan zien\, bespreken we welke stappen vandaag no
LOCATION:Provinciehuis Zuid-Holland (Zuid-Hollandplein 1\, Den Haag)
URL:https://voltnederland.org/zuid-holland/agenda/beleidsavond-milieu-natuu
 r
END:VEVENT
END:VCALENDAR
