BEGIN:VCALENDAR
VERSION:2.0
PRODID:-//Volt Europa//Events//EN
CALSCALE:GREGORIAN
METHOD:PUBLISH
BEGIN:VEVENT
UID:bekendmaking-bestuurskandidaten-volt-nederland-1776276000@voltnederland
 .org
DTSTAMP:20260421T222314Z
DTSTART;TZID=Europe/Amsterdam:20260415T200000
DTEND;TZID=Europe/Amsterdam:20260415T213000
SUMMARY:Kennismaking bestuurskandidaten Volt Nederland
DESCRIPTION:Maak kennis met de bestuurskandidaten van Volt Nederland Weet j
 ij al wie de kandidaten zijn voor het nieuwe bestuur van Volt Nederland? Ti
 jdens deze introductieavond stellen de kandidaten voor het bestuur zich aan
  je voor. Zo kun jij je goed voorbereiden op het congres van 9 mei en een w
 eloverwogen stem uitbrengen. De aftrap van de interne campagne vindt plaats
  op: 📅 Woensdag 15 april 2026 🕗 20.00 uur 📍 Partijbureau\, Koningi
 nnegracht 7\, Den Haag Wil je erbij zijn? Je bent van harte welkom om de 
LOCATION:Partijbureau\, Koninginnegracht 7\, Den Haag
URL:https://voltnederland.org/agenda/bekendmaking-bestuurskandidaten-volt-n
 ederland
END:VEVENT
END:VCALENDAR
