BEGIN:VCALENDAR
VERSION:2.0
PRODID:-//Volt Europa//Events//EN
CALSCALE:GREGORIAN
METHOD:PUBLISH
BEGIN:VEVENT
UID:antwerpen-politiek-cafe-uitdagingen-en-kansen-voor-europa-1704996000@vo
 ltnederland.org
DTSTAMP:20260423T115011Z
DTSTART;TZID=Europe/Amsterdam:20240111T190000
DTEND;TZID=Europe/Amsterdam:20240111T210000
SUMMARY:Antwerpen - Politiek café uitdagingen en kansen voor Europa
DESCRIPTION:Praat mee in het Politiek Café over de uitdagingen en kansen v
 oor Europa in een razendsnel veranderende wereld.  Aftrap van dit Europese 
 verkiezingsjaar\, met onze kandidaten #JeroenVanLoock\, #JasperCoosemans en
  Europarlementariër @Sophie in 't Veld\, door @voltantwerpen @voltbelgium 
 op 11 januari om 19:00 in de @Peperfabriek Antwerpen. Iedereen is welkom om
  deel te nemen en kennis te maken met onze pan-Europese beweging.
LOCATION:Antwerpen - Peperfabriek\, Breughelstraat 31\, 2018 Antwerpen\, Be
 lgie
URL:https://voltnederland.org/agenda/antwerpen-politiek-cafe-uitdagingen-en
 -kansen-voor-europa
END:VEVENT
END:VCALENDAR
