BEGIN:VCALENDAR
VERSION:2.0
PRODID:-//Volt Europa//Events//EN
CALSCALE:GREGORIAN
METHOD:PUBLISH
BEGIN:VEVENT
UID:amsterdam-nachttrein-naar-lissabon-het-spoor-debat-1717437600@voltneder
 land.org
DTSTAMP:20260423T143041Z
DTSTART;TZID=Europe/Amsterdam:20240603T200000
DTEND;TZID=Europe/Amsterdam:20240603T220000
SUMMARY:Amsterdam - Nachttrein naar Lissabon - Het Spoor debat
DESCRIPTION:Doe mee aan een boeiende avond waar we met bestuurders van spoo
 rbedrijven en Europarlementariërs\, waaronder onze eigen Anna Strolenberg\
 , in gesprek gaan over de toekomst van een aantrekkelijk en betaalbaar Euro
 pees spoornetwerk. Stel je voor dat je per trein naar Lissabon wilt reizen 
 – het is een tocht van ruim anderhalve dag met talrijke overstappen\, gro
 te kans op vertragingen\, en een prijs die drie keer zo hoog is als een ret
 ourvlucht. Dit zorgt ervoor dat de meeste reizigers kiezen voor het v
LOCATION:De Balie\, Amsterdam
URL:https://voltnederland.org/agenda/amsterdam-nachttrein-naar-lissabon-het
 -spoor-debat
END:VEVENT
END:VCALENDAR
