BEGIN:VCALENDAR
VERSION:2.0
PRODID:-//Volt Europa//Events//EN
CALSCALE:GREGORIAN
METHOD:PUBLISH
BEGIN:VEVENT
UID:amsterdam-campagne-fietstocht-1697371200@voltnederland.org
DTSTAMP:20260423T102218Z
DTSTART;TZID=Europe/Amsterdam:20231015T140000
DTEND;TZID=Europe/Amsterdam:20231015T170000
SUMMARY:Amsterdam - Campagne fietstocht
DESCRIPTION:Op zondag 15 oktober zullen we de verkiezingscampagne in Amster
 dam officieel aftrappen door de stad paars te kleuren! En hoe kunnen we dat
  beter doen dan op de fiets!? We verzamelen om 14.00 uur met onze fietsen o
 p het Waterlooplein. Vanaf daar vertrekken we in een paarse optocht naar ve
 rschillende locaties in de stad. De route wordt t.z.t. bekend gemaakt. We s
 luiten rond 17.00 uur af bij het Rijksmuseum. Hoe meer mensen erbij zijn\, 
 hoe meer reuring en hoe meer bereik! Meld je dus allemaal aan v
LOCATION:Amsterdam Waterlooplein
URL:https://voltnederland.org/agenda/amsterdam-campagne-fietstocht
END:VEVENT
END:VCALENDAR
