BEGIN:VCALENDAR
VERSION:2.0
PRODID:-//Volt Europa//Events//EN
CALSCALE:GREGORIAN
METHOD:PUBLISH
BEGIN:VEVENT
UID:alv-volt-amsterdam-1765107000@voltnederland.org
DTSTAMP:20260423T060944Z
DTSTART;TZID=Europe/Amsterdam:20251207T123000
DTEND;TZID=Europe/Amsterdam:20251207T180000
SUMMARY:ALV Volt Amsterdam
DESCRIPTION:Tijdens deze ALV (Algemene Ledenvergadering) stemmen we over he
 t verkiezingsprogramma en de kandidatenlijst voor de gemeenteraadsverkiezin
 gen van maart 2026. Ben je van plan om te komen? Meld je hier aan:  https:/
 /forms.gle/Qi49CSfJcqDa4uMMA Agenda: 12:30 - 13:00 - Inloop 13:00 - 14:30 -
  Presentatie kandidatenlijst en stemming 14:30 - 17:00 - Presentatie verkie
 zingsprogramma\, stemming en discussie over moties en amendementen\, stemmi
 ng verkiezingsprogramma 17:00 - 18:00 - Borrel
LOCATION:Restaurant Elixer
URL:https://voltnederland.org/agenda/alv-volt-amsterdam
END:VEVENT
END:VCALENDAR
