BEGIN:VCALENDAR
VERSION:2.0
PRODID:-//Volt Europa//Events//EN
CALSCALE:GREGORIAN
METHOD:PUBLISH
BEGIN:VEVENT
UID:aftrap-beleidsteam-volt-utrecht-stad-1706121000@voltnederland.org
DTSTAMP:20260423T102104Z
DTSTART;TZID=Europe/Amsterdam:20240124T193000
DTEND;TZID=Europe/Amsterdam:20240124T210000
SUMMARY:Aftrap beleidsteam Volt Utrecht (stad)
DESCRIPTION:De fractie van Volt Utrecht (stad) is op zoek naar mensen die w
 illen helpen met beleid. Dit kan eenmalig\, periodiek of structureel. Je ho
 eft hiervoor niet per se in de stad te wonen\, of specifieke ervaring te he
 bben. We zoeken vooral mensen met de motivatie en interesse om van Utrecht 
 een fijne(re) stad te maken.  Op woensdagavond 24 januari is er een kick-of
 f van het vernieuwde beleidsteam. Wil je meer weten over hoe je kan bijdrag
 en\, kom dan langs om 19:30 uur bij ons op het stadhuis om kennis
LOCATION:Stadhuis\, Stadhuisbrug 1\, Utrecht
URL:https://voltnederland.org/agenda/aftrap-beleidsteam-volt-utrecht-stad
END:VEVENT
END:VCALENDAR
