BEGIN:VCALENDAR
VERSION:2.0
PRODID:-//Volt Europa//Events//EN
CALSCALE:GREGORIAN
METHOD:PUBLISH
BEGIN:VEVENT
UID:afrika-meets-volt-ontmoeting-met-afrikaanse-vrouwen-in-den-haag-1743012
 000@voltnederland.org
DTSTAMP:20260423T114416Z
DTSTART;TZID=Europe/Amsterdam:20250326T190000
DTEND;TZID=Europe/Amsterdam:20250326T211500
SUMMARY:Afrika meets Volt: ontmoeting met Afrikaanse vrouwen in Den Haag
DESCRIPTION:ENGLISH BELOW Van alle gemeenschappen in onze stad is ‘Afrika
 anse vrouwen’ het meest onbekend. Het continent is enorm\, met talloze la
 nden\, bevolkingsgroepen en culturen. In de maand van Internationale Vrouw
 endag komen zij samen in het nieuwe Afrikaanse restaurant in Den Haag "The 
 African Granary" om hun ervaringen in Nederland te delen. Een kans om te lu
 isteren\, te ontmoeten en te leren over de diverse culturen\, het rijke con
 tinent en hun leven in het gesegregeerde Den Haag. Bevolkingsgroepen ko
LOCATION:The African Granary\, Parkstraat 37 2514 Den Haag
URL:https://voltnederland.org/agenda/afrika-meets-volt-ontmoeting-met-afrik
 aanse-vrouwen-in-den-haag
END:VEVENT
END:VCALENDAR
