BEGIN:VCALENDAR
VERSION:2.0
PRODID:-//Volt Europa//Events//EN
CALSCALE:GREGORIAN
METHOD:PUBLISH
BEGIN:VEVENT
UID:afdelingendag-volt-nederland-1709973000@voltnederland.org
DTSTAMP:20260423T142153Z
DTSTART;TZID=Europe/Amsterdam:20240309T093000
DTEND;TZID=Europe/Amsterdam:20240309T170000
SUMMARY:AfdelingenDag Volt Nederland
DESCRIPTION:Op 9 maart organiseren we weer een AfdelingenDag waarbij actiev
 e leden\, fracties en besturen samenkomen om elkaar te informeren en inspir
 eren. Naast de vele sessies en workshops is er ook voldoende tijd om met el
 kaar in gesprek te gaan. Het zal een dag worden die helemaal om jullie draa
 it!
LOCATION:Cursus- en vergadercentrum Domstad\, Koningsbergerstraat 9\, 3531 
 AJ Utrecht
URL:https://voltnederland.org/agenda/afdelingendag-volt-nederland
END:VEVENT
END:VCALENDAR
