BEGIN:VCALENDAR
VERSION:2.0
PRODID:-//Volt Europa//Events//EN
CALSCALE:GREGORIAN
METHOD:PUBLISH
BEGIN:VEVENT
UID:1-wereld-1000-vrouwen-1709902800@voltnederland.org
DTSTAMP:20260423T144105Z
DTSTART;TZID=Europe/Amsterdam:20240308T140000
DTEND;TZID=Europe/Amsterdam:20240308T180000
SUMMARY:Internationale Vrouwendag 2024
DESCRIPTION:Als Volt-partij/beweging streven we ernaar om een evenement op 
 vrijdag 8 maart 2024\, (Internationale Vrouwendag)\, te organiseren. Het th
 ema van deze dag is\; 1 wereld 1000 vrouwen! De vraag is\; willen jullie me
 t ons meedoen? Het streven is om in Utrecht met 1000 vrouwen samen te komen
 . Op deze vrijdag verzamelen we in de middag (omstreeks 13:30 uur) vervolge
 ns op station NS Utrecht en lopen we gezamenlijk een mars met hetzelfde the
 ma naar park Lepelenburg. Daar zullen we inspirerende voordrachten
LOCATION:Utrecht
URL:https://voltnederland.org/agenda/1-wereld-1000-vrouwen
END:VEVENT
END:VCALENDAR
